BEGIN:VCALENDAR
VERSION:2.0
PRODID:-//81.88.34.38//NONSGML kigkonsult.se iCalcreator 2.20//
CALSCALE:GREGORIAN
METHOD:PUBLISH
X-WR-TIMEZONE:Europe/Berlin
BEGIN:VEVENT
UID:event768@MSC Röthenbach e.V im ADAC
DTSTAMP:20260421T105215Z
CATEGORIES:Jugend-Kart-Slalom 2026\, Kategorie 2026
DESCRIPTION:OC Würzburg (JKS) - Online-Nennung\nKategorie: Jugend-Kart-Slal
 om 2026\, Kategorie 2026\nICS-Link: https://www.msc-roethenbach.de/index.p
 hp?option=com_jem&view=event&id=768:oc-wuerzburg-jks-2026\n
DTSTART;VALUE=DATE:20260503
DTEND;VALUE=DATE:20260504
LOCATION:Kartplatz ADAC OC Würzburg\,Lange Länge 10\,97337 Dettelbach
SUMMARY:OC Würzburg (JKS) - Online-Nennung
URL:https://www.msc-roethenbach.de/index.php?option=com_jem&view=event&id=7
 68:oc-wuerzburg-jks-2026
END:VEVENT
END:VCALENDAR