BEGIN:VCALENDAR
VERSION:2.0
PRODID:-//81.88.34.38//NONSGML kigkonsult.se iCalcreator 2.20//
CALSCALE:GREGORIAN
METHOD:PUBLISH
X-WR-TIMEZONE:Europe/Berlin
BEGIN:VEVENT
UID:event771@MSC Röthenbach e.V im ADAC
DTSTAMP:20260421T103246Z
CATEGORIES:Jugend-Kart-Slalom 2026\, Kategorie 2026
DESCRIPTION:MC Ansbach(JKS) - Doppelveranstaltung - Online-Nennung\nKategor
 ie: Jugend-Kart-Slalom 2026\, Kategorie 2026\nICS-Link: https://www.msc-ro
 ethenbach.de/index.php?option=com_jem&view=event&id=771:mc-ansbach-jks-202
 6\n
DTSTART;VALUE=DATE:20260620
DTEND;VALUE=DATE:20260621
LOCATION:Autohof Ansbach\,Vetterstraße 1\,91522 Ansbach
SUMMARY:MC Ansbach(JKS) - Doppelveranstaltung - Online-Nennung
URL:https://www.msc-roethenbach.de/index.php?option=com_jem&view=event&id=7
 71:mc-ansbach-jks-2026
END:VEVENT
END:VCALENDAR