BEGIN:VCALENDAR
VERSION:2.0
PRODID:-//81.88.34.38//NONSGML kigkonsult.se iCalcreator 2.20//
CALSCALE:GREGORIAN
METHOD:PUBLISH
X-WR-TIMEZONE:Europe/Berlin
BEGIN:VEVENT
UID:event784@MSC Röthenbach e.V im ADAC
DTSTAMP:20260421T121326Z
CATEGORIES:270er Kart-Slalom 2026\, Kategorie 2026
DESCRIPTION:AMSC Hammelburg (GX270)\nKategorie: 270er Kart-Slalom 2026\, Ka
 tegorie 2026\nICS-Link: https://www.msc-roethenbach.de/index.php?option=co
 m_jem&view=event&id=784:amsc-hammelburg-270-2026\n
DTSTART;VALUE=DATE:20260711
DTEND;VALUE=DATE:20260712
LOCATION:Kartplatz AMSC Hammelburg GX270\,Sandflur 1\,97727 Fuchsstadt
SUMMARY:AMSC Hammelburg (GX270)
URL:https://www.msc-roethenbach.de/index.php?option=com_jem&view=event&id=7
 84:amsc-hammelburg-270-2026
END:VEVENT
END:VCALENDAR