BEGIN:VCALENDAR
VERSION:2.0
PRODID:-//81.88.34.38//NONSGML kigkonsult.se iCalcreator 2.20//
CALSCALE:GREGORIAN
METHOD:PUBLISH
X-WR-TIMEZONE:Europe/Berlin
BEGIN:VEVENT
UID:event800@MSC Röthenbach e.V im ADAC
DTSTAMP:20260421T161557Z
CATEGORIES:270er Kart-Slalom 2026
DESCRIPTION:Süddeutscher ADAC 270er-Kartslalom-Endlauf\nKategorie: 270er Ka
 rt-Slalom 2026\nICS-Link: https://www.msc-roethenbach.de/index.php?option=
 com_jem&view=event&id=800:sueddeutscher-adac-270er-kartslalom-endlauf-2026
 \n
DTSTART;VALUE=DATE:20261024
DTEND;VALUE=DATE:20261026
LOCATION:Kartplatz MSC Schrobenhausen
SUMMARY:Süddeutscher ADAC 270er-Kartslalom-Endlauf
URL:https://www.msc-roethenbach.de/index.php?option=com_jem&view=event&id=8
 00:sueddeutscher-adac-270er-kartslalom-endlauf-2026
END:VEVENT
END:VCALENDAR