BEGIN:VCALENDAR
VERSION:2.0
PRODID:-//81.88.34.38//NONSGML kigkonsult.se iCalcreator 2.20//
CALSCALE:GREGORIAN
METHOD:PUBLISH
X-WR-TIMEZONE:Europe/Berlin
BEGIN:VEVENT
UID:event801@MSC Röthenbach e.V im ADAC
DTSTAMP:20260421T082403Z
CATEGORIES:MSC Vorstand 2026\, Allgemein 2026
DESCRIPTION:1. MSC-Vorstandssitzung 2026\nKategorie: MSC Vorstand 2026\, Al
 lgemein 2026\nICS-Link: https://www.msc-roethenbach.de/index.php?option=co
 m_jem&view=event&id=801:1-msc-vorstandssitzung-2026\n
DTSTART;TZID=Europe/Berlin:20260303T190000
DTEND;TZID=Europe/Berlin:20260303T190000
LOCATION:La Tavola\,Kirchhoffstraße 23\,90552 Röthenbach
SUMMARY:1. MSC-Vorstandssitzung 2026
URL:https://www.msc-roethenbach.de/index.php?option=com_jem&view=event&id=8
 01:1-msc-vorstandssitzung-2026
END:VEVENT
END:VCALENDAR