BEGIN:VCALENDAR
VERSION:2.0
PRODID:-//81.88.34.38//NONSGML kigkonsult.se iCalcreator 2.20//
CALSCALE:GREGORIAN
METHOD:PUBLISH
X-WR-TIMEZONE:Europe/Berlin
BEGIN:VEVENT
UID:event805@MSC Röthenbach e.V im ADAC
DTSTAMP:20260421T103933Z
CATEGORIES:Allgemein 2026\, Kategorie 2026
DESCRIPTION:Picknick am Alten Festplatz\nKategorie: Allgemein 2026\, Katego
 rie 2026\nICS-Link: https://www.msc-roethenbach.de/index.php?option=com_je
 m&view=event&id=805:picknick-2026\n
DTSTART;TZID=Europe/Berlin:20260920T110000
DTEND;TZID=Europe/Berlin:20260920T110000
LOCATION:'Alter Festplatz' in Röthenbach\,90552 Röthenbach an der Pegnitz
SUMMARY:Picknick am Alten Festplatz
URL:https://www.msc-roethenbach.de/index.php?option=com_jem&view=event&id=8
 05:picknick-2026
END:VEVENT
END:VCALENDAR