BEGIN:VCALENDAR
VERSION:2.0
PRODID:-//81.88.34.38//NONSGML kigkonsult.se iCalcreator 2.20//
CALSCALE:GREGORIAN
METHOD:PUBLISH
X-WR-TIMEZONE:Europe/Berlin
BEGIN:VEVENT
UID:event807@MSC Röthenbach e.V im ADAC
DTSTAMP:20260421T151926Z
CATEGORIES:Jugend-Kart-Slalom 2026\, Kategorie 2026
DESCRIPTION:ADAC-Nordbayern Endlauf (MSC Tirschenreuth)\nKategorie: Jugend-
 Kart-Slalom 2026\, Kategorie 2026\nICS-Link: https://www.msc-roethenbach.d
 e/index.php?option=com_jem&view=event&id=807:adac-nordbayern-endlauf-2026
 \n
DTSTART;VALUE=DATE:20260912
DTEND;VALUE=DATE:20260913
LOCATION:Kartplatz MSC Tirschenreuth\,Einsteinstraße 2\,95643 Tirschenreuth
SUMMARY:ADAC-Nordbayern Endlauf (MSC Tirschenreuth)
URL:https://www.msc-roethenbach.de/index.php?option=com_jem&view=event&id=8
 07:adac-nordbayern-endlauf-2026
END:VEVENT
END:VCALENDAR