BEGIN:VCALENDAR
VERSION:2.0
PRODID:-//81.88.34.38//NONSGML kigkonsult.se iCalcreator 2.20//
CALSCALE:GREGORIAN
METHOD:PUBLISH
X-WR-TIMEZONE:Europe/Berlin
BEGIN:VEVENT
UID:event802@MSC Röthenbach e.V im ADAC
DTSTAMP:20260421T105112Z
CATEGORIES:Allgemein 2026\, MSC Vorstand 2026
DESCRIPTION:2. MSC-Vorstandssitzung 2026\nKategorie: Allgemein 2026\, MSC V
 orstand 2026\nICS-Link: https://www.msc-roethenbach.de/index.php?option=co
 m_jem&view=event&id=802:2-msc-vorstandssitzung-2026\n
DTSTART;TZID=Europe/Berlin:20260421T190000
DTEND;TZID=Europe/Berlin:20260421T190000
LOCATION:Floraheim\,Siedlerstraße 10\,90552 Röthenbach\,Germany
SUMMARY:2. MSC-Vorstandssitzung 2026
URL:https://www.msc-roethenbach.de/index.php?option=com_jem&view=event&id=8
 02:2-msc-vorstandssitzung-2026
END:VEVENT
END:VCALENDAR